﻿BEGIN:VCALENDAR
VERSION:2.0
PRODID:-//GFU Cyrus AG Blog - ECPv6.15.20//NONSGML v1.0//EN
CALSCALE:GREGORIAN
METHOD:PUBLISH
X-WR-CALNAME:GFU Cyrus AG Blog
X-ORIGINAL-URL:https://blog.gfu.net
X-WR-CALDESC:Veranstaltungen für GFU Cyrus AG Blog
REFRESH-INTERVAL;VALUE=DURATION:PT1H
X-Robots-Tag:noindex
X-PUBLISHED-TTL:PT1H
BEGIN:VTIMEZONE
TZID:Europe/Berlin
BEGIN:DAYLIGHT
TZOFFSETFROM:+0100
TZOFFSETTO:+0200
TZNAME:CEST
DTSTART:20250330T010000
END:DAYLIGHT
BEGIN:STANDARD
TZOFFSETFROM:+0200
TZOFFSETTO:+0100
TZNAME:CET
DTSTART:20251026T010000
END:STANDARD
BEGIN:DAYLIGHT
TZOFFSETFROM:+0100
TZOFFSETTO:+0200
TZNAME:CEST
DTSTART:20260329T010000
END:DAYLIGHT
BEGIN:STANDARD
TZOFFSETFROM:+0200
TZOFFSETTO:+0100
TZNAME:CET
DTSTART:20261025T010000
END:STANDARD
BEGIN:DAYLIGHT
TZOFFSETFROM:+0100
TZOFFSETTO:+0200
TZNAME:CEST
DTSTART:20270328T010000
END:DAYLIGHT
BEGIN:STANDARD
TZOFFSETFROM:+0200
TZOFFSETTO:+0100
TZNAME:CET
DTSTART:20271031T010000
END:STANDARD
END:VTIMEZONE
BEGIN:VEVENT
DTSTART;VALUE=DATE:20260420
DTEND;VALUE=DATE:20260424
DTSTAMP:20260420T023438
CREATED:20230511T084716Z
LAST-MODIFIED:20251023T040409Z
UID:5795-1776643200-1776988799@blog.gfu.net
SUMMARY:JCON 2026 - Java Community Konferenz | Werbung
DESCRIPTION:JCON EUROPE 2026 ist eine Konferenz mit internationaler Speakerbesetzung für die Java-Community in Deutschland und wird von der Java User Group Oberpfalz in Zusammenarbeit mit dem JAVAPRO Magazin organisiert. \n\n20.- 23. April 2026 | Köln \n\nInfos & Anmeldemöglichkeit: JCON EUROPE 2026 \n\n 
URL:https://blog.gfu.net/event/jcon-2026/
LOCATION:Cinedom Köln\, Im Mediapark 1\, Köln\, NRW\, 50670\, Deutschland
CATEGORIES:Vor-Ort-Konferenz
ATTACH;FMTTYPE=image/png:https://blog.gfu.net/wp-content/uploads/2022/01/IT-Konferenz1.png
ORGANIZER;CN="Impuls Mediengruppe GmbH":MAILTO:info@impuls-mediengruppe.de
END:VEVENT
END:VCALENDAR